BEGIN:VCALENDAR
VERSION:2.0
PRODID:-//www.dawson.edu//NONSGML kigkonsult.se iCalcreator 2.30.10//
CALSCALE:GREGORIAN
METHOD:PUBLISH
UID:cc18fdba-9807-4da1-97eb-b5e269af363c
X-WR-CALDESC:
X-WR-RELCALID:cd12c3856ea0ca7d4a4698c60a8c8471
X-WR-TIMEZONE:America/Denver
BEGIN:VTIMEZONE
TZID:America/Denver
BEGIN:STANDARD
TZNAME:MST
DTSTART:20211107T020000
TZOFFSETFROM:-0600
TZOFFSETTO:-0700
RDATE:20221106T020000
END:STANDARD
BEGIN:DAYLIGHT
TZNAME:MDT
DTSTART:20210314T020000
TZOFFSETFROM:-0700
TZOFFSETTO:-0600
RDATE:20220313T020000
RDATE:20230312T020000
END:DAYLIGHT
END:VTIMEZONE
BEGIN:VEVENT
UID:2a8ff973-6dcd-4172-9647-b4d3b9b15638
DTSTAMP:20260420T035654Z
DESCRIPTION:
DTSTART;TZID=America/Denver:20211124T000000
DTEND;TZID=America/Denver:20211126T235900
LOCATION:
SUMMARY:Campus Closed - Thanksgiving Break
END:VEVENT
END:VCALENDAR
