BEGIN:VCALENDAR
VERSION:2.0
PRODID:-//www.dawson.edu//NONSGML kigkonsult.se iCalcreator 2.30.10//
CALSCALE:GREGORIAN
METHOD:PUBLISH
UID:d771c4f2-2388-4fc6-9d1e-c80b4ee32157
X-WR-CALDESC:A week of hands-on fun for middle schoolers—designed for incom
 ing 6th to outgoing 8th graders! Explore electronics\, gaming tech\, and m
 ore in a high-energy\, engaging environment. Only 25 spots available – don
 ’t miss out! Register by June 11th
X-WR-RELCALID:f1ca0cba743fd76be8cc694b6bcfdd24
X-WR-TIMEZONE:America/Denver
BEGIN:VTIMEZONE
TZID:America/Denver
BEGIN:STANDARD
TZNAME:MST
DTSTART:20241103T020000
TZOFFSETFROM:-0600
TZOFFSETTO:-0700
RDATE:20251102T020000
RDATE:20261101T020000
END:STANDARD
BEGIN:DAYLIGHT
TZNAME:MDT
DTSTART:20250309T020000
TZOFFSETFROM:-0700
TZOFFSETTO:-0600
RDATE:20260308T020000
END:DAYLIGHT
END:VTIMEZONE
BEGIN:VEVENT
UID:2ef89921-7a64-4f2a-81db-87b2dd132b79
DTSTAMP:20260419T221713Z
DESCRIPTION:A week of hands-on fun for middle schoolers—designed for incomi
 ng 6th to outgoing 8th graders! Explore electronics\, gaming tech\, and mo
 re in a high-energy\, engaging environment. Only 25 spots available – don’
 t miss out! Register by June 11th
DTSTART;TZID=America/Denver:20250616T090000
DTEND;TZID=America/Denver:20250616T150000
LOCATION:Dawson Community College
SUMMARY:Cyber Electronics Camp
END:VEVENT
END:VCALENDAR
