BEGIN:VCALENDAR
VERSION:2.0
PRODID:-//www.dawson.edu//NONSGML kigkonsult.se iCalcreator 2.30.10//
CALSCALE:GREGORIAN
METHOD:PUBLISH
UID:0afac9a9-9755-4eca-9ab6-990c079ed812
X-WR-CALDESC:September 12 & 13\nDCC Rodeo is bringing the action to the Daw
 son County Fairgrounds!
X-WR-RELCALID:eadc75c8ffd88b677f934e53b7cbc5e2
X-WR-TIMEZONE:America/Denver
BEGIN:VTIMEZONE
TZID:America/Denver
BEGIN:STANDARD
TZNAME:MST
DTSTART:20241103T020000
TZOFFSETFROM:-0600
TZOFFSETTO:-0700
RDATE:20251102T020000
RDATE:20261101T020000
END:STANDARD
BEGIN:DAYLIGHT
TZNAME:MDT
DTSTART:20250309T020000
TZOFFSETFROM:-0700
TZOFFSETTO:-0600
RDATE:20260308T020000
RDATE:20270314T020000
END:DAYLIGHT
END:VTIMEZONE
BEGIN:VEVENT
UID:9cd1d3c9-f4f1-4533-800c-28f8e95ae2c2
DTSTAMP:20260425T162916Z
DESCRIPTION:September 12 & 13\nDCC Rodeo is bringing the action to the Daws
 on County Fairgrounds!
DTSTART;TZID=America/Denver:20250912T180000
DTEND;TZID=America/Denver:20250912T210000
LOCATION:Dawson County Fairgrounds
SUMMARY:DCC Rodeo
END:VEVENT
END:VCALENDAR
