BEGIN:VCALENDAR
VERSION:2.0
PRODID:-//www.dawson.edu//NONSGML kigkonsult.se iCalcreator 2.30.10//
CALSCALE:GREGORIAN
METHOD:PUBLISH
UID:9e65a71c-50bb-4801-8571-0e507a8a6322
X-WR-CALDESC:
X-WR-RELCALID:6f262e8b58ce322f5a327309802ffe01
X-WR-TIMEZONE:America/Denver
BEGIN:VTIMEZONE
TZID:America/Denver
BEGIN:STANDARD
TZNAME:MST
DTSTART:20251102T020000
TZOFFSETFROM:-0600
TZOFFSETTO:-0700
RDATE:20261101T020000
END:STANDARD
BEGIN:DAYLIGHT
TZNAME:MDT
DTSTART:20250309T020000
TZOFFSETFROM:-0700
TZOFFSETTO:-0600
RDATE:20260308T020000
RDATE:20270314T020000
END:DAYLIGHT
END:VTIMEZONE
BEGIN:VEVENT
UID:89ed6c80-615d-4690-ae6a-6d2ae82eb50b
DTSTAMP:20260421T084402Z
DESCRIPTION:
DTSTART;TZID=America/Denver:20260304T180000
DTEND;TZID=America/Denver:20260304T200000
LOCATION:Toepke Center Gym
SUMMARY:NJCAA Men's Region 13 Championships
END:VEVENT
END:VCALENDAR
