BEGIN:VCALENDAR
VERSION:2.0
PRODID:-//www.dawson.edu//NONSGML kigkonsult.se iCalcreator 2.30.10//
CALSCALE:GREGORIAN
METHOD:PUBLISH
UID:bbdc767f-f1e1-4b58-aebc-8ea44f071803
X-WR-CALDESC:June 12-13\, 2026\nGirls Team Basketball Camp & Cardiac Tourna
 ment\nGuaranteed Five Games (3 pool\, 2 playoff games)
X-WR-RELCALID:0c026de8ef12e1392dcb3bd4a2e8d300
X-WR-TIMEZONE:America/Denver
BEGIN:VTIMEZONE
TZID:America/Denver
BEGIN:STANDARD
TZNAME:MST
DTSTART:20251102T020000
TZOFFSETFROM:-0600
TZOFFSETTO:-0700
RDATE:20261101T020000
RDATE:20271107T020000
END:STANDARD
BEGIN:DAYLIGHT
TZNAME:MDT
DTSTART:20260308T020000
TZOFFSETFROM:-0700
TZOFFSETTO:-0600
RDATE:20270314T020000
END:DAYLIGHT
END:VTIMEZONE
BEGIN:VEVENT
UID:dce5eccf-a54e-4850-b3bc-6b07f495d6cb
DTSTAMP:20260420T111829Z
DESCRIPTION:June 12-13\, 2026\nGirls Team Basketball Camp & Cardiac Tournam
 ent\nGuaranteed Five Games (3 pool\, 2 playoff games)
DTSTART;TZID=America/Denver:20260619T040000
DTEND;TZID=America/Denver:20260619T040001
LOCATION:Toepke Center Gym
SUMMARY:19th Annual HS Basketball Team Camp - Girls
END:VEVENT
END:VCALENDAR
