BEGIN:VCALENDAR
VERSION:2.0
PRODID:-//www.dawson.edu//NONSGML kigkonsult.se iCalcreator 2.30.10//
CALSCALE:GREGORIAN
METHOD:PUBLISH
UID:614b9196-7ce0-4557-a1f5-3542517eb892
X-WR-CALDESC:Student PREP Days are designed to help incoming freshmen and t
 ransfer students hit the ground running at Dawson Community College. Inste
 ad of scrambling during your first week\, you’ll take care of the most imp
 ortant steps before classes begin.
X-WR-RELCALID:ce7a7873e80e1cdab2e16b294049d289
X-WR-TIMEZONE:America/Denver
BEGIN:VTIMEZONE
TZID:America/Denver
BEGIN:STANDARD
TZNAME:MST
DTSTART:20251102T020000
TZOFFSETFROM:-0600
TZOFFSETTO:-0700
RDATE:20261101T020000
RDATE:20271107T020000
END:STANDARD
BEGIN:DAYLIGHT
TZNAME:MDT
DTSTART:20260308T020000
TZOFFSETFROM:-0700
TZOFFSETTO:-0600
RDATE:20270314T020000
END:DAYLIGHT
END:VTIMEZONE
BEGIN:VEVENT
UID:07e4cb41-e3de-459c-bc99-0c7a36695785
DTSTAMP:20260424T110217Z
DESCRIPTION:Student PREP Days are designed to help incoming freshmen and tr
 ansfer students hit the ground running at Dawson Community College. Instea
 d of scrambling during your first week\, you’ll take care of the most impo
 rtant steps before classes begin.
DTSTART;TZID=America/Denver:20260622T090000
DTEND;TZID=America/Denver:20260622T130000
LOCATION:DCC Campus Library
SUMMARY:Student PREP Day!
END:VEVENT
END:VCALENDAR
